BEGIN:VCALENDAR
VERSION:2.0
PRODID:-//pretix//pretix.eu//
BEGIN:VTIMEZONE
TZID:Europe/Berlin
BEGIN:STANDARD
DTSTART:20001029T040000
RRULE:FREQ=YEARLY;BYDAY=-1SU;BYMONTH=10
TZNAME:CET
TZOFFSETFROM:+0200
TZOFFSETTO:+0100
END:STANDARD
BEGIN:DAYLIGHT
DTSTART:20000326T030000
RRULE:FREQ=YEARLY;BYDAY=-1SU;BYMONTH=3
TZNAME:CEST
TZOFFSETFROM:+0100
TZOFFSETTO:+0200
END:DAYLIGHT
END:VTIMEZONE
BEGIN:VEVENT
UID:pretix-francescocirillo-3yrjx-3964460@tickets.francescocirillo.com
DTSTART;TZID=Europe/Berlin:20231126T180000
DTEND;TZID=Europe/Berlin:20231129T200000
DESCRIPTION:Tickets: https://tickets.francescocirillo.com/3yrjx/3964460/\nO
 rganizer: Cirillo Consulting GmbH
DTSTAMP:20260420T130936Z
SUMMARY:E0053-M005-Y23N002 Pomodoro® Time Management Course
END:VEVENT
END:VCALENDAR
